Package: optimalFlow Version: 1.18.0 Command: /home/biocbuild/R/R/bin/R CMD check --install=check:optimalFlow.install-out.txt --library=/home/biocbuild/R/R/site-library --no-vignettes --timings optimalFlow_1.18.0.tar.gz StartedAt: 2025-02-04 09:35:09 -0000 (Tue, 04 Feb 2025) EndedAt: 2025-02-04 09:39:36 -0000 (Tue, 04 Feb 2025) EllapsedTime: 267.6 seconds RetCode: 0 Status: WARNINGS CheckDir: optimalFlow.Rcheck Warnings: 1