Package: orthogene Version: 1.12.0 Command: /Library/Frameworks/R.framework/Resources/bin/R CMD build --keep-empty-dirs --no-resave-data orthogene StartedAt: 2025-02-03 21:02:42 -0500 (Mon, 03 Feb 2025) EndedAt: 2025-02-03 21:03:39 -0500 (Mon, 03 Feb 2025) EllapsedTime: 57.1 seconds RetCode: 0 Status: OK PackageFile: orthogene_1.12.0.tar.gz PackageFileSize: 2.641 MiB