Package: orthos Version: 1.4.0 Command: rm -rf orthos.buildbin-libdir && mkdir orthos.buildbin-libdir && /Users/biocbuild/BBS/utils/build-universal.sh orthos_1.4.0.tar.gz /Library/Frameworks/R.framework/Resources/bin/R orthos.buildbin-libdir StartedAt: 2025-02-05 17:03:05 -0500 (Wed, 05 Feb 2025) EndedAt: 2025-02-05 17:03:37 -0500 (Wed, 05 Feb 2025) EllapsedTime: 32.0 seconds RetCode: 0 Status: OK PackageFile: orthos_1.4.0.tgz PackageFileSize: 2.839 MiB