Package: orthos Version: 1.4.0 Command: /Library/Frameworks/R.framework/Resources/bin/R CMD INSTALL orthos StartedAt: 2025-02-03 18:09:16 -0500 (Mon, 03 Feb 2025) EndedAt: 2025-02-03 18:09:45 -0500 (Mon, 03 Feb 2025) EllapsedTime: 28.9 seconds RetCode: 0 Status: OK