Package: orthos Version: 1.4.0 Command: /Library/Frameworks/R.framework/Resources/bin/R CMD check --install=check:orthos.install-out.txt --library=/Library/Frameworks/R.framework/Resources/library --no-vignettes --timings orthos_1.4.0.tar.gz StartedAt: 2025-02-11 07:58:07 -0500 (Tue, 11 Feb 2025) EndedAt: 2025-02-11 08:17:50 -0500 (Tue, 11 Feb 2025) EllapsedTime: 1183.4 seconds RetCode: 0 Status: OK CheckDir: orthos.Rcheck Warnings: 0