Package: orthos Version: 1.4.0 Command: chmod a+r orthos -R && F:\biocbuild\bbs-3.20-bioc\R\bin\R.exe CMD build --keep-empty-dirs --no-resave-data orthos StartedAt: 2025-02-03 20:59:31 -0500 (Mon, 03 Feb 2025) EndedAt: 2025-02-03 21:21:51 -0500 (Mon, 03 Feb 2025) EllapsedTime: 1339.5 seconds RetCode: 0 Status: OK PackageFile: orthos_1.4.0.tar.gz PackageFileSize: 2.121 MiB