Package: orthos Version: 1.4.0 Command: F:\biocbuild\bbs-3.20-bioc\R\bin\R.exe CMD INSTALL orthos StartedAt: 2025-02-10 17:02:27 -0500 (Mon, 10 Feb 2025) EndedAt: 2025-02-10 17:02:59 -0500 (Mon, 10 Feb 2025) EllapsedTime: 32.5 seconds RetCode: 0 Status: OK