Package: pRoloc Version: 1.46.0 Command: /Library/Frameworks/R.framework/Resources/bin/R CMD INSTALL pRoloc StartedAt: 2025-02-10 17:44:44 -0500 (Mon, 10 Feb 2025) EndedAt: 2025-02-10 17:46:11 -0500 (Mon, 10 Feb 2025) EllapsedTime: 86.5 seconds RetCode: 0 Status: OK