Package: pRoloc Version: 1.46.0 Command: rm -rf pRoloc.buildbin-libdir && mkdir pRoloc.buildbin-libdir && /Users/biocbuild/BBS/utils/build-universal.sh pRoloc_1.46.0.tar.gz /Library/Frameworks/R.framework/Resources/bin/R pRoloc.buildbin-libdir StartedAt: 2025-02-04 13:50:44 -0500 (Tue, 04 Feb 2025) EndedAt: 2025-02-04 13:55:36 -0500 (Tue, 04 Feb 2025) EllapsedTime: 292.5 seconds RetCode: 0 Status: OK PackageFile: pRoloc_1.46.0.tgz PackageFileSize: 10.29 MiB