Package: pRoloc Version: 1.46.0 Command: /Library/Frameworks/R.framework/Resources/bin/R CMD build --keep-empty-dirs --no-resave-data pRoloc StartedAt: 2025-02-03 21:24:45 -0500 (Mon, 03 Feb 2025) EndedAt: 2025-02-03 21:34:43 -0500 (Mon, 03 Feb 2025) EllapsedTime: 597.4 seconds RetCode: 0 Status: OK PackageFile: pRoloc_1.46.0.tar.gz PackageFileSize: 10.54 MiB