Package: pRoloc Version: 1.46.0 Command: rm -rf pRoloc.buildbin-libdir && mkdir pRoloc.buildbin-libdir && F:\biocbuild\bbs-3.20-bioc\R\bin\R.exe CMD INSTALL --build --library=pRoloc.buildbin-libdir pRoloc_1.46.0.tar.gz StartedAt: 2025-02-04 09:13:11 -0500 (Tue, 04 Feb 2025) EndedAt: 2025-02-04 09:16:19 -0500 (Tue, 04 Feb 2025) EllapsedTime: 188.5 seconds RetCode: 0 Status: OK PackageFile: pRoloc_1.46.0.zip PackageFileSize: 6.323 MiB