Package: pRoloc Version: 1.46.0 Command: chmod a+r pRoloc -R && F:\biocbuild\bbs-3.20-bioc\R\bin\R.exe CMD build --keep-empty-dirs --no-resave-data pRoloc StartedAt: 2025-02-03 21:22:20 -0500 (Mon, 03 Feb 2025) EndedAt: 2025-02-03 21:33:50 -0500 (Mon, 03 Feb 2025) EllapsedTime: 690.3 seconds RetCode: 0 Status: OK PackageFile: pRoloc_1.46.0.tar.gz PackageFileSize: 6.257 MiB