Package: pRoloc Version: 1.46.0 Command: F:\biocbuild\bbs-3.20-bioc\R\bin\R.exe CMD INSTALL pRoloc StartedAt: 2025-02-03 17:08:27 -0500 (Mon, 03 Feb 2025) EndedAt: 2025-02-03 17:10:46 -0500 (Mon, 03 Feb 2025) EllapsedTime: 138.4 seconds RetCode: 0 Status: OK