Package: pRoloc Version: 1.46.0 Command: /home/biocbuild/R/R/bin/R CMD build --keep-empty-dirs --no-resave-data pRoloc StartedAt: 2025-02-04 01:57:15 -0000 (Tue, 04 Feb 2025) EndedAt: 2025-02-04 02:03:34 -0000 (Tue, 04 Feb 2025) EllapsedTime: 379.4 seconds RetCode: 0 Status: OK PackageFile: pRoloc_1.46.0.tar.gz PackageFileSize: 7.212 MiB