Package: pRoloc Version: 1.46.0 Command: /home/biocbuild/R/R/bin/R CMD check --install=check:pRoloc.install-out.txt --library=/home/biocbuild/R/R/site-library --no-vignettes --timings pRoloc_1.46.0.tar.gz StartedAt: 2025-02-04 10:01:14 -0000 (Tue, 04 Feb 2025) EndedAt: 2025-02-04 10:12:54 -0000 (Tue, 04 Feb 2025) EllapsedTime: 699.9 seconds RetCode: 0 Status: OK CheckDir: pRoloc.Rcheck Warnings: 0