Package: pRoloc Version: 1.46.0 Command: /home/biocbuild/R/R/bin/R CMD INSTALL pRoloc StartedAt: 2025-02-03 21:13:19 -0000 (Mon, 03 Feb 2025) EndedAt: 2025-02-03 21:15:01 -0000 (Mon, 03 Feb 2025) EllapsedTime: 101.9 seconds RetCode: 0 Status: OK