Package: pRolocGUI Version: 2.16.0 Command: /Library/Frameworks/R.framework/Resources/bin/R CMD build --keep-empty-dirs --no-resave-data pRolocGUI StartedAt: 2025-01-31 05:40:07 -0500 (Fri, 31 Jan 2025) EndedAt: 2025-01-31 05:41:31 -0500 (Fri, 31 Jan 2025) EllapsedTime: 84.5 seconds RetCode: 0 Status: OK PackageFile: pRolocGUI_2.16.0.tar.gz PackageFileSize: 2.991 MiB