Package: pRolocGUI Version: 2.16.0 Command: /Library/Frameworks/R.framework/Resources/bin/R CMD check --install=check:pRolocGUI.install-out.txt --library=/Library/Frameworks/R.framework/Resources/library --no-vignettes --timings pRolocGUI_2.16.0.tar.gz StartedAt: 2025-02-01 05:18:00 -0500 (Sat, 01 Feb 2025) EndedAt: 2025-02-01 05:24:49 -0500 (Sat, 01 Feb 2025) EllapsedTime: 409.5 seconds RetCode: 0 Status: OK CheckDir: pRolocGUI.Rcheck Warnings: 0