Package: pRolocGUI Version: 2.16.0 Command: /Library/Frameworks/R.framework/Resources/bin/R CMD build --keep-empty-dirs --no-resave-data pRolocGUI StartedAt: 2025-02-03 21:24:49 -0500 (Mon, 03 Feb 2025) EndedAt: 2025-02-03 21:27:14 -0500 (Mon, 03 Feb 2025) EllapsedTime: 145.5 seconds RetCode: 0 Status: OK PackageFile: pRolocGUI_2.16.0.tar.gz PackageFileSize: 2.991 MiB