Package: pRolocGUI Version: 2.16.0 Command: /Library/Frameworks/R.framework/Resources/bin/R CMD check --install=check:pRolocGUI.install-out.txt --library=/Library/Frameworks/R.framework/Resources/library --no-vignettes --timings pRolocGUI_2.16.0.tar.gz StartedAt: 2025-02-04 08:16:14 -0500 (Tue, 04 Feb 2025) EndedAt: 2025-02-04 08:29:00 -0500 (Tue, 04 Feb 2025) EllapsedTime: 765.8 seconds RetCode: 0 Status: OK CheckDir: pRolocGUI.Rcheck Warnings: 0