Package: pRolocGUI Version: 2.16.0 Command: /Library/Frameworks/R.framework/Resources/bin/R CMD INSTALL pRolocGUI StartedAt: 2025-02-03 16:34:28 -0500 (Mon, 03 Feb 2025) EndedAt: 2025-02-03 16:36:15 -0500 (Mon, 03 Feb 2025) EllapsedTime: 106.4 seconds RetCode: 0 Status: OK