Package: pRolocGUI Version: 2.16.0 Command: /home/biocbuild/bbs-3.20-bioc/R/bin/R CMD INSTALL pRolocGUI StartedAt: 2025-02-03 16:00:04 -0500 (Mon, 03 Feb 2025) EndedAt: 2025-02-03 16:00:55 -0500 (Mon, 03 Feb 2025) EllapsedTime: 51.1 seconds RetCode: 0 Status: OK