Package: pRolocGUI Version: 2.16.0 Command: rm -rf pRolocGUI.buildbin-libdir && mkdir pRolocGUI.buildbin-libdir && F:\biocbuild\bbs-3.20-bioc\R\bin\R.exe CMD INSTALL --build --library=pRolocGUI.buildbin-libdir pRolocGUI_2.16.0.tar.gz StartedAt: 2025-02-04 09:13:24 -0500 (Tue, 04 Feb 2025) EndedAt: 2025-02-04 09:14:20 -0500 (Tue, 04 Feb 2025) EllapsedTime: 56.5 seconds RetCode: 0 Status: OK PackageFile: pRolocGUI_2.16.0.zip PackageFileSize: 1.774 MiB