Package: pRolocGUI Version: 2.16.0 Command: chmod a+r pRolocGUI -R && F:\biocbuild\bbs-3.20-bioc\R\bin\R.exe CMD build --keep-empty-dirs --no-resave-data pRolocGUI StartedAt: 2025-01-30 21:06:39 -0500 (Thu, 30 Jan 2025) EndedAt: 2025-01-30 21:08:09 -0500 (Thu, 30 Jan 2025) EllapsedTime: 90.1 seconds RetCode: 0 Status: OK PackageFile: pRolocGUI_2.16.0.tar.gz PackageFileSize: 2.991 MiB