Package: pRolocGUI Version: 2.16.0 Command: F:\biocbuild\bbs-3.20-bioc\R\bin\R.exe CMD check --no-multiarch --install=check:pRolocGUI.install-out.txt --library=F:\biocbuild\bbs-3.20-bioc\R\library --no-vignettes --timings pRolocGUI_2.16.0.tar.gz StartedAt: 2025-02-04 05:04:46 -0500 (Tue, 04 Feb 2025) EndedAt: 2025-02-04 05:11:43 -0500 (Tue, 04 Feb 2025) EllapsedTime: 416.8 seconds RetCode: 0 Status: OK CheckDir: pRolocGUI.Rcheck Warnings: 0