Package: pRolocGUI Version: 2.16.0 Command: /home/biocbuild/R/R/bin/R CMD build --keep-empty-dirs --no-resave-data pRolocGUI StartedAt: 2025-02-04 01:57:25 -0000 (Tue, 04 Feb 2025) EndedAt: 2025-02-04 01:58:47 -0000 (Tue, 04 Feb 2025) EllapsedTime: 82.1 seconds RetCode: 0 Status: OK PackageFile: pRolocGUI_2.16.0.tar.gz PackageFileSize: 3.054 MiB