Package: pRolocGUI Version: 2.16.0 Command: /home/biocbuild/bbs-3.20-bioc/R/bin/R CMD INSTALL pRolocGUI StartedAt: 2024-11-19 16:54:59 -0500 (Tue, 19 Nov 2024) EndedAt: 2024-11-19 16:55:41 -0500 (Tue, 19 Nov 2024) EllapsedTime: 42.0 seconds RetCode: 0 Status: OK