Package: packFinder Version: 1.18.0 Command: /Library/Frameworks/R.framework/Resources/bin/R CMD check --install=check:packFinder.install-out.txt --library=/Library/Frameworks/R.framework/Resources/library --no-vignettes --timings packFinder_1.18.0.tar.gz StartedAt: 2025-02-01 04:04:17 -0500 (Sat, 01 Feb 2025) EndedAt: 2025-02-01 04:05:06 -0500 (Sat, 01 Feb 2025) EllapsedTime: 49.1 seconds RetCode: 0 Status: OK CheckDir: packFinder.Rcheck Warnings: 0