Package: packFinder Version: 1.18.0 Command: /Library/Frameworks/R.framework/Resources/bin/R CMD check --install=check:packFinder.install-out.txt --library=/Library/Frameworks/R.framework/Resources/library --no-vignettes --timings packFinder_1.18.0.tar.gz StartedAt: 2025-02-04 07:40:00 -0500 (Tue, 04 Feb 2025) EndedAt: 2025-02-04 07:41:41 -0500 (Tue, 04 Feb 2025) EllapsedTime: 100.6 seconds RetCode: 0 Status: OK CheckDir: packFinder.Rcheck Warnings: 0