Package: packFinder Version: 1.18.0 Command: rm -rf packFinder.buildbin-libdir && mkdir packFinder.buildbin-libdir && F:\biocbuild\bbs-3.20-bioc\R\bin\R.exe CMD INSTALL --build --library=packFinder.buildbin-libdir packFinder_1.18.0.tar.gz StartedAt: 2025-01-31 09:14:30 -0500 (Fri, 31 Jan 2025) EndedAt: 2025-01-31 09:14:47 -0500 (Fri, 31 Jan 2025) EllapsedTime: 16.6 seconds RetCode: 0 Status: OK PackageFile: packFinder_1.18.0.zip PackageFileSize: 1.167 MiB