Package: packFinder Version: 1.18.0 Command: chmod a+r packFinder -R && F:\biocbuild\bbs-3.20-bioc\R\bin\R.exe CMD build --keep-empty-dirs --no-resave-data packFinder StartedAt: 2025-01-30 20:45:59 -0500 (Thu, 30 Jan 2025) EndedAt: 2025-01-30 20:46:25 -0500 (Thu, 30 Jan 2025) EllapsedTime: 26.0 seconds RetCode: 0 Status: OK PackageFile: packFinder_1.18.0.tar.gz PackageFileSize: 1.129 MiB