Package: packFinder Version: 1.18.0 Command: F:\biocbuild\bbs-3.20-bioc\R\bin\R.exe CMD check --no-multiarch --install=check:packFinder.install-out.txt --library=F:\biocbuild\bbs-3.20-bioc\R\library --no-vignettes --timings packFinder_1.18.0.tar.gz StartedAt: 2025-01-31 04:50:46 -0500 (Fri, 31 Jan 2025) EndedAt: 2025-01-31 04:51:44 -0500 (Fri, 31 Jan 2025) EllapsedTime: 58.5 seconds RetCode: 0 Status: OK CheckDir: packFinder.Rcheck Warnings: 0