Package: packFinder Version: 1.18.0 Command: /home/biocbuild/R/R/bin/R CMD check --install=check:packFinder.install-out.txt --library=/home/biocbuild/R/R/site-library --no-vignettes --timings packFinder_1.18.0.tar.gz StartedAt: 2025-02-04 09:38:30 -0000 (Tue, 04 Feb 2025) EndedAt: 2025-02-04 09:39:25 -0000 (Tue, 04 Feb 2025) EllapsedTime: 55.1 seconds RetCode: 0 Status: OK CheckDir: packFinder.Rcheck Warnings: 0