Package: padma Version: 1.16.0 Command: /Library/Frameworks/R.framework/Resources/bin/R CMD check --install=check:padma.install-out.txt --library=/Library/Frameworks/R.framework/Resources/library --no-vignettes --timings padma_1.16.0.tar.gz StartedAt: 2025-02-01 04:04:45 -0500 (Sat, 01 Feb 2025) EndedAt: 2025-02-01 04:08:54 -0500 (Sat, 01 Feb 2025) EllapsedTime: 249.9 seconds RetCode: 0 Status: OK CheckDir: padma.Rcheck Warnings: 0