Package: padma Version: 1.16.0 Command: /Library/Frameworks/R.framework/Resources/bin/R CMD INSTALL padma StartedAt: 2025-02-03 17:38:03 -0500 (Mon, 03 Feb 2025) EndedAt: 2025-02-03 17:38:34 -0500 (Mon, 03 Feb 2025) EllapsedTime: 30.6 seconds RetCode: 0 Status: OK