Package: padma Version: 1.16.0 Command: chmod a+r padma -R && F:\biocbuild\bbs-3.20-bioc\R\bin\R.exe CMD build --keep-empty-dirs --no-resave-data padma StartedAt: 2025-01-30 20:46:27 -0500 (Thu, 30 Jan 2025) EndedAt: 2025-01-30 20:48:15 -0500 (Thu, 30 Jan 2025) EllapsedTime: 108.1 seconds RetCode: 0 Status: OK PackageFile: padma_1.16.0.tar.gz PackageFileSize: 947.6 KiB