Package: pairedGSEA Version: 1.6.0 Command: /Library/Frameworks/R.framework/Resources/bin/R CMD build --keep-empty-dirs --no-resave-data pairedGSEA StartedAt: 2025-02-04 05:15:12 -0500 (Tue, 04 Feb 2025) EndedAt: 2025-02-04 05:17:38 -0500 (Tue, 04 Feb 2025) EllapsedTime: 145.8 seconds RetCode: 0 Status: OK PackageFile: pairedGSEA_1.6.0.tar.gz PackageFileSize: 604.4 KiB