Package: pairedGSEA Version: 1.6.0 Command: /Library/Frameworks/R.framework/Resources/bin/R CMD check --install=check:pairedGSEA.install-out.txt --library=/Library/Frameworks/R.framework/Resources/library --no-vignettes --timings pairedGSEA_1.6.0.tar.gz StartedAt: 2025-02-05 04:53:36 -0500 (Wed, 05 Feb 2025) EndedAt: 2025-02-05 05:00:29 -0500 (Wed, 05 Feb 2025) EllapsedTime: 413.0 seconds RetCode: 0 Status: OK CheckDir: pairedGSEA.Rcheck Warnings: 0