Package: pairedGSEA Version: 1.6.0 Command: /home/biocbuild/R/R/bin/R CMD build --keep-empty-dirs --no-resave-data pairedGSEA StartedAt: 2025-02-04 01:43:16 -0000 (Tue, 04 Feb 2025) EndedAt: 2025-02-04 01:46:02 -0000 (Tue, 04 Feb 2025) EllapsedTime: 166.4 seconds RetCode: 0 Status: OK PackageFile: pairedGSEA_1.6.0.tar.gz PackageFileSize: 562.1 KiB