Package: pairkat Version: 1.12.0 Command: /Library/Frameworks/R.framework/Resources/bin/R CMD build --keep-empty-dirs --no-resave-data pairkat StartedAt: 2025-01-30 21:40:25 -0500 (Thu, 30 Jan 2025) EndedAt: 2025-01-30 21:45:25 -0500 (Thu, 30 Jan 2025) EllapsedTime: 299.9 seconds RetCode: 0 Status: OK PackageFile: pairkat_1.12.0.tar.gz PackageFileSize: 825.1 KiB