Package: pairkat Version: 1.12.0 Command: /Library/Frameworks/R.framework/Resources/bin/R CMD INSTALL pairkat StartedAt: 2025-01-30 15:18:31 -0500 (Thu, 30 Jan 2025) EndedAt: 2025-01-30 15:19:25 -0500 (Thu, 30 Jan 2025) EllapsedTime: 54.0 seconds RetCode: 0 Status: OK