Package: pairkat Version: 1.12.0 Command: rm -rf pairkat.buildbin-libdir && mkdir pairkat.buildbin-libdir && F:\biocbuild\bbs-3.20-bioc\R\bin\R.exe CMD INSTALL --build --library=pairkat.buildbin-libdir pairkat_1.12.0.tar.gz StartedAt: 2025-01-31 09:14:51 -0500 (Fri, 31 Jan 2025) EndedAt: 2025-01-31 09:15:18 -0500 (Fri, 31 Jan 2025) EllapsedTime: 27.3 seconds RetCode: 0 Status: OK PackageFile: pairkat_1.12.0.zip PackageFileSize: 804.3 KiB