Package: pairkat Version: 1.12.0 Command: chmod a+r pairkat -R && F:\biocbuild\bbs-3.20-bioc\R\bin\R.exe CMD build --keep-empty-dirs --no-resave-data pairkat StartedAt: 2025-01-30 20:47:45 -0500 (Thu, 30 Jan 2025) EndedAt: 2025-01-30 20:50:19 -0500 (Thu, 30 Jan 2025) EllapsedTime: 154.2 seconds RetCode: 0 Status: OK PackageFile: pairkat_1.12.0.tar.gz PackageFileSize: 770 KiB