Package: pairkat Version: 1.12.0 Command: F:\biocbuild\bbs-3.20-bioc\R\bin\R.exe CMD check --no-multiarch --install=check:pairkat.install-out.txt --library=F:\biocbuild\bbs-3.20-bioc\R\library --no-vignettes --timings pairkat_1.12.0.tar.gz StartedAt: 2025-01-31 04:52:55 -0500 (Fri, 31 Jan 2025) EndedAt: 2025-01-31 05:01:34 -0500 (Fri, 31 Jan 2025) EllapsedTime: 519.3 seconds RetCode: 0 Status: OK CheckDir: pairkat.Rcheck Warnings: 0