Package: pareg Version: 1.10.0 Command: /Library/Frameworks/R.framework/Resources/bin/R CMD build --keep-empty-dirs --no-resave-data pareg StartedAt: 2025-02-03 21:08:57 -0500 (Mon, 03 Feb 2025) EndedAt: 2025-02-03 21:13:23 -0500 (Mon, 03 Feb 2025) EllapsedTime: 266.0 seconds RetCode: 1 Status: ERROR PackageFile: None PackageFileSize: NA