Package: pareg Version: 1.10.0 Command: chmod a+r pareg -R && F:\biocbuild\bbs-3.20-bioc\R\bin\R.exe --arch x64 CMD build --keep-empty-dirs --no-resave-data pareg StartedAt: 2025-02-03 21:05:29 -0500 (Mon, 03 Feb 2025) EndedAt: 2025-02-03 21:22:02 -0500 (Mon, 03 Feb 2025) EllapsedTime: 992.3 seconds RetCode: 1 Status: ERROR PackageFile: None PackageFileSize: NA