Package: parglms Version: 1.38.0 Command: F:\biocbuild\bbs-3.20-bioc\R\bin\R.exe CMD INSTALL parglms StartedAt: 2025-02-10 15:42:17 -0500 (Mon, 10 Feb 2025) EndedAt: 2025-02-10 15:42:40 -0500 (Mon, 10 Feb 2025) EllapsedTime: 23.0 seconds RetCode: 0 Status: OK