Package: parglms Version: 1.38.0 Command: /home/biocbuild/R/R/bin/R CMD build --keep-empty-dirs --no-resave-data parglms StartedAt: 2025-02-11 01:27:37 -0000 (Tue, 11 Feb 2025) EndedAt: 2025-02-11 01:27:53 -0000 (Tue, 11 Feb 2025) EllapsedTime: 16.0 seconds RetCode: 0 Status: OK PackageFile: parglms_1.38.0.tar.gz PackageFileSize: 259 KiB