Package: partCNV Version: 1.4.0 Command: /Library/Frameworks/R.framework/Resources/bin/R CMD build --keep-empty-dirs --no-resave-data partCNV StartedAt: 2025-02-04 05:18:00 -0500 (Tue, 04 Feb 2025) EndedAt: 2025-02-04 05:19:55 -0500 (Tue, 04 Feb 2025) EllapsedTime: 115.7 seconds RetCode: 0 Status: OK PackageFile: partCNV_1.4.0.tar.gz PackageFileSize: 4.646 MiB