Package: partCNV Version: 1.4.0 Command: /Library/Frameworks/R.framework/Resources/bin/R CMD INSTALL partCNV StartedAt: 2024-11-19 15:33:55 -0500 (Tue, 19 Nov 2024) EndedAt: 2024-11-19 15:34:54 -0500 (Tue, 19 Nov 2024) EllapsedTime: 59.6 seconds RetCode: 0 Status: OK